BEGIN:VCALENDAR
VERSION:2.0
PRODID:-//NAIFA-AZ Association Representing Licensed Insurance Agents - ECPv6.15.17.1//NONSGML v1.0//EN
CALSCALE:GREGORIAN
METHOD:PUBLISH
X-WR-CALNAME:NAIFA-AZ Association Representing Licensed Insurance Agents
X-ORIGINAL-URL:https://naifa-az.org
X-WR-CALDESC:Events for NAIFA-AZ Association Representing Licensed Insurance Agents
REFRESH-INTERVAL;VALUE=DURATION:PT1H
X-Robots-Tag:noindex
X-PUBLISHED-TTL:PT1H
BEGIN:VTIMEZONE
TZID:America/Phoenix
BEGIN:STANDARD
TZOFFSETFROM:-0700
TZOFFSETTO:-0700
TZNAME:MST
DTSTART:20250101T000000
END:STANDARD
END:VTIMEZONE
BEGIN:VEVENT
DTSTART;TZID=America/Phoenix:20260129T090000
DTEND;TZID=America/Phoenix:20260129T100000
DTSTAMP:20260423T220908
CREATED:20251219T233248Z
LAST-MODIFIED:20251219T233248Z
UID:3034-1769677200-1769680800@naifa-az.org
SUMMARY:Engaging with Women Clients - One Hour Arizona CE Credit
DESCRIPTION:As we begin the New Year – we are pleased to offer this CE Webinar sponsored by: \nBrighthouse Financial and hosted by Darin Ruiz\, CFP\n“Engaging with Women Clients”\nAccording to a study by McKinsey & Co.\, men are the key financial decision makers in 66% of affluent households – but that is changing as women inherit the wealth currently being controlled by baby boomers. This program will discuss trends causing this wealth transfer before diving into ways you can help support female clients specifically. \nJanuary 29\, 2026\n9:00 a.m. – 10:00 a.m. Arizona Time\nOne Hour Arizona CE Credit – No Fee for Members\nClick following link to register:\nhttps://brighthousefinancial.zoom.us/webinar/register/WN_LZZ3IFvYQweLpIopQ0lgzw#/registration \n  \nFeatured Speaker: Andrea Santellan\nAdvanced Markets Group Consultant\, Brighthouse Financial. \nAndrea brings over 20 years experience as a dedicated insurance consultant providing financial professionals and wholesalers with in-depth case sharing sales strategies and concepts. She joined Brighthouse in 2021 as part of the Platinum Key Partners Program\, as an Annuity Top Producer Analyst. Prior to joining Brighthouse\, Andrea was an External Wholesaler with John Hancock. \n  \nREGISTER
URL:https://naifa-az.org/event/engaging-with-women-clients-one-hour-arizona-ce-credit/
ATTACH;FMTTYPE=image/webp:https://naifa-az.org/wp-content/uploads/2025/12/2026.webp
END:VEVENT
END:VCALENDAR